BEGIN:VCALENDAR
VERSION:2.0
PRODID:-//Jorny - ECPv6.10.0//NONSGML v1.0//EN
CALSCALE:GREGORIAN
METHOD:PUBLISH
X-WR-CALNAME:Jorny
X-ORIGINAL-URL:https://jorny.com
X-WR-CALDESC:Events for Jorny
REFRESH-INTERVAL;VALUE=DURATION:PT1H
X-Robots-Tag:noindex
X-PUBLISHED-TTL:PT1H
BEGIN:VTIMEZONE
TZID:America/New_York
BEGIN:DAYLIGHT
TZOFFSETFROM:-0500
TZOFFSETTO:-0400
TZNAME:EDT
DTSTART:20240310T070000
END:DAYLIGHT
BEGIN:STANDARD
TZOFFSETFROM:-0400
TZOFFSETTO:-0500
TZNAME:EST
DTSTART:20241103T060000
END:STANDARD
END:VTIMEZONE
BEGIN:VEVENT
DTSTART;TZID=America/New_York:20241101T190000
DTEND;TZID=America/New_York:20241101T210000
DTSTAMP:20260423T011009
CREATED:20241001T152923Z
LAST-MODIFIED:20241001T152923Z
UID:10000013-1730487600-1730494800@jorny.com
SUMMARY:Game on: Pool\, Darts & Drinks Night
DESCRIPTION:Join with other Midlife Momentum community members to shoot some pool or play darks or try your hand at shuffleboard.\nFull bar available for drinks!\nBring friends!\n\nBison Billiards\nAround the back of the Eastern Hills Mall\n4545 Transit Road\nSuite 974\nWilliamsville\, NY 14221
URL:https://jorny.com/event/game-on-pool-darts-drinks-night/
LOCATION:Bison Billards\, 4545 Transit Road\, Buffalo\, NY\, 14221\, United States
CATEGORIES:In-person
ATTACH;FMTTYPE=image/jpeg:https://jorny.com/wp-content/uploads/2024/10/bison-billiards-75-768x511-1.jpg
END:VEVENT
END:VCALENDAR